BEGIN:VCALENDAR
VERSION:2.0
PRODID:-//Rapport Thailand - ECPv6.9.0//NONSGML v1.0//EN
CALSCALE:GREGORIAN
METHOD:PUBLISH
X-WR-CALNAME:Rapport Thailand
X-ORIGINAL-URL:https://www.rapportthailand.com
X-WR-CALDESC:Events for Rapport Thailand
REFRESH-INTERVAL;VALUE=DURATION:PT1H
X-Robots-Tag:noindex
X-PUBLISHED-TTL:PT1H
BEGIN:VTIMEZONE
TZID:Asia/Krasnoyarsk
BEGIN:STANDARD
TZOFFSETFROM:+0700
TZOFFSETTO:+0700
TZNAME:+07
DTSTART:20160101T000000
END:STANDARD
END:VTIMEZONE
BEGIN:VEVENT
DTSTART;VALUE=DATE:20220630
DTEND;VALUE=DATE:20220704
DTSTAMP:20260421T170659
CREATED:20240830T163045Z
LAST-MODIFIED:20250303T163044Z
UID:10000128-1656547200-1656892799@www.rapportthailand.com
SUMMARY:THAILAND INTERNATIONAL DOG SHOW
DESCRIPTION:
URL:https://www.rapportthailand.com/event/thailand-international-dog-show/
LOCATION:Hall 9 @ IMPACT Forum Building\, IMPACT Forum Building\, ถ. ป๊อปปูล่า ตำบลบ้านใหม่\, นนทบุรี\, 11120\, Thailand
CATEGORIES:Rapport
ATTACH;FMTTYPE=image/jpeg:https://www.rapportthailand.com/wp-content/uploads/2024/08/in-001-98.jpg
END:VEVENT
BEGIN:VEVENT
DTSTART;VALUE=DATE:20220619
DTEND;VALUE=DATE:20220623
DTSTAMP:20260421T170659
CREATED:20240830T163041Z
LAST-MODIFIED:20250303T163138Z
UID:10000100-1655596800-1655942399@www.rapportthailand.com
SUMMARY:The 14th VPAT Regional Veterinary Congress 2022
DESCRIPTION:
URL:https://www.rapportthailand.com/event/the-14th-vpat-regional-veterinary-congress-2022/
LOCATION:Hall 9 @ IMPACT Forum Building\, IMPACT Forum Building\, ถ. ป๊อปปูล่า ตำบลบ้านใหม่\, นนทบุรี\, 11120\, Thailand
CATEGORIES:Rapport
ATTACH;FMTTYPE=image/jpeg:https://www.rapportthailand.com/wp-content/uploads/2024/08/in-001-96.jpg
END:VEVENT
BEGIN:VEVENT
DTSTART;VALUE=DATE:20211118
DTEND;VALUE=DATE:20211122
DTSTAMP:20260421T170659
CREATED:20240830T163041Z
LAST-MODIFIED:20250303T163711Z
UID:10000098-1637193600-1637539199@www.rapportthailand.com
SUMMARY:THAILAND BABY & KIDS BEST BUY #39th
DESCRIPTION:
URL:https://www.rapportthailand.com/event/thailand-baby-kids-best-buy-39th/
LOCATION:Hall 9 @ IMPACT Forum Building\, IMPACT Forum Building\, ถ. ป๊อปปูล่า ตำบลบ้านใหม่\, นนทบุรี\, 11120\, Thailand
CATEGORIES:Rapport
ATTACH;FMTTYPE=image/jpeg:https://www.rapportthailand.com/wp-content/uploads/2024/08/in-001-93.jpg
END:VEVENT
BEGIN:VEVENT
DTSTART;VALUE=DATE:20200826
DTEND;VALUE=DATE:20200829
DTSTAMP:20260421T170659
CREATED:20240830T163041Z
LAST-MODIFIED:20240830T172407Z
UID:10000094-1598400000-1598659199@www.rapportthailand.com
SUMMARY:The 28th Annual Medical Sciences Conference
DESCRIPTION:
URL:https://www.rapportthailand.com/event/the-28th-annual-medical-sciences-conference/
LOCATION:Hall 9 @ IMPACT Forum Building\, IMPACT Forum Building\, ถ. ป๊อปปูล่า ตำบลบ้านใหม่\, นนทบุรี\, 11120\, Thailand
CATEGORIES:Rapport
ATTACH;FMTTYPE=image/jpeg:https://www.rapportthailand.com/wp-content/uploads/2024/08/in-001-89.jpg
END:VEVENT
BEGIN:VEVENT
DTSTART;VALUE=DATE:20170628
DTEND;VALUE=DATE:20170701
DTSTAMP:20260421T170659
CREATED:20240830T163037Z
LAST-MODIFIED:20250317T111841Z
UID:10000070-1498608000-1498867199@www.rapportthailand.com
SUMMARY:MT4.0 for Advancement of Thai Healthcare
DESCRIPTION:
URL:https://www.rapportthailand.com/event/mt4-0-for-advancement-of-thai-healthcare/
LOCATION:Hall 9 @ IMPACT Forum Building\, IMPACT Forum Building\, ถ. ป๊อปปูล่า ตำบลบ้านใหม่\, นนทบุรี\, 11120\, Thailand
CATEGORIES:Rapport
ATTACH;FMTTYPE=image/jpeg:https://www.rapportthailand.com/wp-content/uploads/2024/08/in-001-66.jpg
END:VEVENT
BEGIN:VEVENT
DTSTART;VALUE=DATE:20160724
DTEND;VALUE=DATE:20160728
DTSTAMP:20260421T170659
CREATED:20240830T163034Z
LAST-MODIFIED:20250317T110908Z
UID:10000049-1469318400-1469663999@www.rapportthailand.com
SUMMARY:The 9th VPAT Regional Veterinary Congress 2016
DESCRIPTION:
URL:https://www.rapportthailand.com/event/the-9th-vpat-regional-veterinary-congress-2016/
LOCATION:Hall 9 @ IMPACT Forum Building\, IMPACT Forum Building\, ถ. ป๊อปปูล่า ตำบลบ้านใหม่\, นนทบุรี\, 11120\, Thailand
CATEGORIES:Rapport
ATTACH;FMTTYPE=image/jpeg:https://www.rapportthailand.com/wp-content/uploads/2024/08/in-001-44.jpg
END:VEVENT
END:VCALENDAR