BEGIN:VCALENDAR
VERSION:2.0
PRODID:-//Rapport Thailand - ECPv6.9.0//NONSGML v1.0//EN
CALSCALE:GREGORIAN
METHOD:PUBLISH
X-WR-CALNAME:Rapport Thailand
X-ORIGINAL-URL:https://www.rapportthailand.com
X-WR-CALDESC:Events for Rapport Thailand
REFRESH-INTERVAL;VALUE=DURATION:PT1H
X-Robots-Tag:noindex
X-PUBLISHED-TTL:PT1H
BEGIN:VTIMEZONE
TZID:Asia/Krasnoyarsk
BEGIN:STANDARD
TZOFFSETFROM:+0700
TZOFFSETTO:+0700
TZNAME:+07
DTSTART:20230101T000000
END:STANDARD
END:VTIMEZONE
BEGIN:VEVENT
DTSTART;VALUE=DATE:20231207
DTEND;VALUE=DATE:20231211
DTSTAMP:20260421T173434
CREATED:20240826T183025Z
LAST-MODIFIED:20240826T183025Z
UID:10000005-1701907200-1702252799@www.rapportthailand.com
SUMMARY:The Foodism Show
DESCRIPTION:
URL:https://www.rapportthailand.com/event/the-foodism-show/
LOCATION:Impact Arena Muang Thong Thani\, IMPACT Arena Hall\, ถ. ป๊อปปูล่า ตำบลบ้านใหม่\, อำเภอปากเกร็ด\, นนทบุรี\, 11120\, Thailand
CATEGORIES:Your Health
ATTACH;FMTTYPE=image/jpeg:https://www.rapportthailand.com/wp-content/uploads/2024/08/408141543_314520034828647_7008320278684798116_n.jpg
END:VEVENT
BEGIN:VEVENT
DTSTART;VALUE=DATE:20230820
DTEND;VALUE=DATE:20230823
DTSTAMP:20260421T173434
CREATED:20240826T182056Z
LAST-MODIFIED:20241008T171813Z
UID:10000004-1692489600-1692748799@www.rapportthailand.com
SUMMARY:Asia Fitness Conference 2023
DESCRIPTION:
URL:https://www.rapportthailand.com/event/asia-fitness-conference-2023/
LOCATION:Bitec Bangna\, บางนาใต้\, เขตบางนา\, กรุงเทพมหานคร\, 10260\, Thailand
CATEGORIES:Your Health
ATTACH;FMTTYPE=image/jpeg:https://www.rapportthailand.com/wp-content/uploads/2024/08/LINE_ALBUM_ASIA-Fitness-Conference-2023-20-22-oct@BITEC_240322_1.jpg
END:VEVENT
BEGIN:VEVENT
DTSTART;VALUE=DATE:20230817
DTEND;VALUE=DATE:20230820
DTSTAMP:20260421T173434
CREATED:20240826T181035Z
LAST-MODIFIED:20240826T182123Z
UID:10000003-1692230400-1692489599@www.rapportthailand.com
SUMMARY:H.E.A.T International Anti-Aging Congress 2023
DESCRIPTION:
URL:https://www.rapportthailand.com/event/h-e-a-t-international-anti-aging-congress-2023/
LOCATION:Athenee Luxury Collection Hotel\, 61 ถ. วิทยุ แขวงลุมพินี\, เขตปทุมวัน\, กรุงเทพมหานคร\, 10330\, Thailand
CATEGORIES:Your Health
ATTACH;FMTTYPE=image/jpeg:https://www.rapportthailand.com/wp-content/uploads/2024/08/LINE_ALBUM_H.E.A.T-@The-Athenee-hotle-17-19-สิงหาคม-66_240322_1-min.jpg
END:VEVENT
END:VCALENDAR